BEGIN:VCALENDAR
VERSION:2.0
PRODID:-//Samet - ECPv6.15.19//NONSGML v1.0//EN
CALSCALE:GREGORIAN
METHOD:PUBLISH
X-WR-CALNAME:Samet
X-ORIGINAL-URL:https://sametcorp.com
X-WR-CALDESC:Events for Samet
REFRESH-INTERVAL;VALUE=DURATION:PT1H
X-Robots-Tag:noindex
X-PUBLISHED-TTL:PT1H
BEGIN:VTIMEZONE
TZID:America/New_York
BEGIN:DAYLIGHT
TZOFFSETFROM:-0500
TZOFFSETTO:-0400
TZNAME:EDT
DTSTART:20240310T070000
END:DAYLIGHT
BEGIN:STANDARD
TZOFFSETFROM:-0400
TZOFFSETTO:-0500
TZNAME:EST
DTSTART:20241103T060000
END:STANDARD
BEGIN:DAYLIGHT
TZOFFSETFROM:-0500
TZOFFSETTO:-0400
TZNAME:EDT
DTSTART:20250309T070000
END:DAYLIGHT
BEGIN:STANDARD
TZOFFSETFROM:-0400
TZOFFSETTO:-0500
TZNAME:EST
DTSTART:20251102T060000
END:STANDARD
BEGIN:DAYLIGHT
TZOFFSETFROM:-0500
TZOFFSETTO:-0400
TZNAME:EDT
DTSTART:20260308T070000
END:DAYLIGHT
BEGIN:STANDARD
TZOFFSETFROM:-0400
TZOFFSETTO:-0500
TZNAME:EST
DTSTART:20261101T060000
END:STANDARD
END:VTIMEZONE
BEGIN:VEVENT
DTSTART;TZID=America/New_York:20250828T160000
DTEND;TZID=America/New_York:20250828T180000
DTSTAMP:20260425T122916
CREATED:20250812T184230Z
LAST-MODIFIED:20250821T131809Z
UID:26064382-1756396800-1756404000@sametcorp.com
SUMMARY:CPCC Public Safety Training Facility / Phase 1 Outreach Session
DESCRIPTION:Join us for an Outreach Session for CPCC Public Safety Training Facility / Phase 1
URL:https://sametcorp.com/event/cpcc-public-safety-training-facility-phase-1-outreach-session/
LOCATION:CPCC Levine Campus Auditorium\, LV 2150\, 2800 Campus Ridge Road\, Matthews\, NC\, 28105\, United States
CATEGORIES:Subcontractor
ATTACH;FMTTYPE=image/jpeg:https://sametcorp.com/wp-content/uploads/2025/05/CPCC_Outreach_phase1a_banner.jpg
ORGANIZER;CN="Angie Hudson":MAILTO:ahudson@sametcorp.com
END:VEVENT
END:VCALENDAR